BEGIN:VCALENDAR
VERSION:2.0
PRODID:-//Wir lieben Natur und Gärten. - ECPv6.15.20//NONSGML v1.0//EN
CALSCALE:GREGORIAN
METHOD:PUBLISH
X-WR-CALNAME:Wir lieben Natur und Gärten.
X-ORIGINAL-URL:http://waldgarten-petershausen.de
X-WR-CALDESC:Veranstaltungen für Wir lieben Natur und Gärten.
REFRESH-INTERVAL;VALUE=DURATION:PT1H
X-Robots-Tag:noindex
X-PUBLISHED-TTL:PT1H
BEGIN:VTIMEZONE
TZID:Europe/Berlin
BEGIN:DAYLIGHT
TZOFFSETFROM:+0100
TZOFFSETTO:+0200
TZNAME:CEST
DTSTART:20250330T010000
END:DAYLIGHT
BEGIN:STANDARD
TZOFFSETFROM:+0200
TZOFFSETTO:+0100
TZNAME:CET
DTSTART:20251026T010000
END:STANDARD
BEGIN:DAYLIGHT
TZOFFSETFROM:+0100
TZOFFSETTO:+0200
TZNAME:CEST
DTSTART:20260329T010000
END:DAYLIGHT
BEGIN:STANDARD
TZOFFSETFROM:+0200
TZOFFSETTO:+0100
TZNAME:CET
DTSTART:20261025T010000
END:STANDARD
BEGIN:DAYLIGHT
TZOFFSETFROM:+0100
TZOFFSETTO:+0200
TZNAME:CEST
DTSTART:20270328T010000
END:DAYLIGHT
BEGIN:STANDARD
TZOFFSETFROM:+0200
TZOFFSETTO:+0100
TZNAME:CET
DTSTART:20271031T010000
END:STANDARD
END:VTIMEZONE
BEGIN:VEVENT
DTSTART;TZID=Europe/Berlin:20261003T130000
DTEND;TZID=Europe/Berlin:20261004T170000
DTSTAMP:20260423T010032
CREATED:20260205T072911Z
LAST-MODIFIED:20260205T073026Z
UID:494-1791032400-1791133200@waldgarten-petershausen.de
SUMMARY:Apfelfest
DESCRIPTION:Der Höhepunkt des Apfeljahres: das zwei-tägige Apfelfest\, eine Kooperationsveranstal-tung von WaldGarten\, BN\, Aktiver Schule und Waldkindergarten! \nEs ist ein buntes Programm für die ganze Familie rund um das Thema Apfel (Ausstellung Vielfalt\, Märchen-Tipi\, Basteln\, Apfelbar\, etc.) geplant. Unbekannte Apfelsorten können mitgebracht und vom Pomologen Jürgen Pompe bestimmt werden. Musikalische Begleitung wird auch dabei sein. \nDas Fest beginnt am Samstag und Sonntag jeweils um 13 Uhr und endet jeweils mit der Dämmerung gegen 17 Uhr.
URL:http://waldgarten-petershausen.de/event/apfelfest-3/
LOCATION:Waldgarten\, Waldgarten Petershausen\, Petershausen\, 85238\, Germany
CATEGORIES:Familienveranstaltung,Fest,Veranstaltungen
ATTACH;FMTTYPE=image/png:http://waldgarten-petershausen.de/wp-content/uploads/2026/02/Screenshot-2026-01-09-160518.png
END:VEVENT
BEGIN:VEVENT
DTSTART;TZID=Europe/Berlin:20261017T100000
DTEND;TZID=Europe/Berlin:20261017T130000
DTSTAMP:20260423T010032
CREATED:20260205T073346Z
LAST-MODIFIED:20260205T073346Z
UID:499-1792231200-1792242000@waldgarten-petershausen.de
SUMMARY:Wir helfen Wildtieren im Winter
DESCRIPTION:In unserem Bastelworkshop gestalten wir gemeinsam einfache Überwinterungs-hilfen für Igel und kreative Futterangebote für heimische Vögel. Dabei erfahren Groß und Klein\, wie Wildtiere die kalte Jahreszeit überstehen und wie wir sie dabei sinnvoll unterstützen können. Mit natürlichen Materialien\, praktischen Tipps und jeder Menge Spaß entsteht so Nützliches für Garten\, Balkon oder Hof. Ein kreativer Workshop für alle\, die Tieren im Winter etwas Gutes tun möchten. \nDas ist eine Veranstaltung der Ortgruppe Petershausen des Bund Naturschutz. Bitte melden Sich beim Veranstalter an. \nDer Workshop wird von erfahrenen Bastler angeleitet. Für alles was mit nach Hause genommen wird\, wird eine Spende in Höhe des Sachwerts ergebeten um die Unkosten zu decken.
URL:http://waldgarten-petershausen.de/event/wir-helfen-wildtieren-im-winter/
LOCATION:Waldgarten\, Waldgarten Petershausen\, Petershausen\, 85238\, Germany
CATEGORIES:Familienveranstaltung,Kurs / Workshop,Veranstaltungen
ATTACH;FMTTYPE=image/jpeg:http://waldgarten-petershausen.de/wp-content/uploads/2026/02/hedgehog-9843927_640.jpg
ORGANIZER;CN="Bund Naturschutz Ortsgruppe Petershausen":MAILTO:bn.petershausen@gmx.de
END:VEVENT
BEGIN:VEVENT
DTSTART;TZID=Europe/Berlin:20261128T130000
DTEND;TZID=Europe/Berlin:20261128T150000
DTSTAMP:20260423T010032
CREATED:20260205T073551Z
LAST-MODIFIED:20260205T073551Z
UID:502-1795870800-1795878000@waldgarten-petershausen.de
SUMMARY:Adventskranzbinden
DESCRIPTION:Adventskränze aus Natur-materialien selbst binden\, an der Feuerschale mit Apfelpunsch sitzen\, begleitet von erfahrenen Kranzbinderinnen. \nFür Material und Verpflegung ist gesorgt. Der Unkostenbeitrag liegt bei 15 € (für Mitglieder 12). Eine Anmeldung ist erforderlich.
URL:http://waldgarten-petershausen.de/event/adventskranzbinden-3/
LOCATION:Waldgarten\, Waldgarten Petershausen\, Petershausen\, 85238\, Germany
CATEGORIES:Kurs / Workshop,Veranstaltungen
ATTACH;FMTTYPE=image/jpeg:http://waldgarten-petershausen.de/wp-content/uploads/2025/01/adventskranzbinden.jpg
END:VEVENT
END:VCALENDAR