BEGIN:VCALENDAR
VERSION:2.0
PRODID:-//Wir lieben Natur und Gärten. - ECPv6.15.20//NONSGML v1.0//EN
CALSCALE:GREGORIAN
METHOD:PUBLISH
X-ORIGINAL-URL:http://waldgarten-petershausen.de
X-WR-CALDESC:Veranstaltungen für Wir lieben Natur und Gärten.
REFRESH-INTERVAL;VALUE=DURATION:PT1H
X-Robots-Tag:noindex
X-PUBLISHED-TTL:PT1H
BEGIN:VTIMEZONE
TZID:Europe/Berlin
BEGIN:DAYLIGHT
TZOFFSETFROM:+0100
TZOFFSETTO:+0200
TZNAME:CEST
DTSTART:20250330T010000
END:DAYLIGHT
BEGIN:STANDARD
TZOFFSETFROM:+0200
TZOFFSETTO:+0100
TZNAME:CET
DTSTART:20251026T010000
END:STANDARD
BEGIN:DAYLIGHT
TZOFFSETFROM:+0100
TZOFFSETTO:+0200
TZNAME:CEST
DTSTART:20260329T010000
END:DAYLIGHT
BEGIN:STANDARD
TZOFFSETFROM:+0200
TZOFFSETTO:+0100
TZNAME:CET
DTSTART:20261025T010000
END:STANDARD
BEGIN:DAYLIGHT
TZOFFSETFROM:+0100
TZOFFSETTO:+0200
TZNAME:CEST
DTSTART:20270328T010000
END:DAYLIGHT
BEGIN:STANDARD
TZOFFSETFROM:+0200
TZOFFSETTO:+0100
TZNAME:CET
DTSTART:20271031T010000
END:STANDARD
END:VTIMEZONE
BEGIN:VEVENT
DTSTART;TZID=Europe/Berlin:20260502T083000
DTEND;TZID=Europe/Berlin:20260502T103000
DTSTAMP:20260422T230344
CREATED:20260205T065221Z
LAST-MODIFIED:20260205T065221Z
UID:453-1777710600-1777717800@waldgarten-petershausen.de
SUMMARY:Sensenkurs
DESCRIPTION:Mit der Sense mähen ohne Anstrengung: Hier lernen Sie im Schnelldurchgang die richtige Technik dafür\, außerdem auch Instand-haltungsarbeiten\, Dengeln und Wetzen. Bringen Sie gerne Ihre eigene Sense mit oder leihen Sie sich eine Sense des Vereins. \nZwischendurch findet ein Erfahrungsaustausch bei einer gemeinsamen Brotzeit statt. Bitte Brotzeit selber mitbringen\, Getränke können vor Ort gekauft werden. \nDie Teilnahme ist kostenfrei\, wir bitten jedoch um Anmeldung.
URL:http://waldgarten-petershausen.de/event/sensenkurs-2/
LOCATION:Waldgarten\, Waldgarten Petershausen\, Petershausen\, 85238\, Germany
CATEGORIES:Kurs / Workshop,Veranstaltungen
ATTACH;FMTTYPE=image/jpeg:http://waldgarten-petershausen.de/wp-content/uploads/2024/11/sensen03-1-rotated.jpg
END:VEVENT
BEGIN:VEVENT
DTSTART;TZID=Europe/Berlin:20260509T140000
DTEND;TZID=Europe/Berlin:20260509T173000
DTSTAMP:20260422T230344
CREATED:20260205T065444Z
LAST-MODIFIED:20260205T065444Z
UID:455-1778335200-1778347800@waldgarten-petershausen.de
SUMMARY:Petershausener Runden: Ziegel\, Eichen\, Streuobstwiesen
DESCRIPTION:Heute schauen wir uns die alte Ziegelei an und erkunden die damit verbundenen Landschafts-veränderungen. Emil Andorfer kann hier als Ziegel-Experte viel Hintergrundwissen vermitteln. \nÜber die Eichengruppe geht es dann auf die Streuobstwiesen des WaldGarten e. V. Gegen 17 Uhr sollten wir spätestens wieder am Bahnhof zurück sein. \nDas ist eine Veranstaltung des Bund Naturschutz\, Ortsgruppe Petershausen. Es ist keine Anmeldung erforderlich. Die Teilnahme ist kostenfrei. \nBei Rückfragen wenden Sie sich gerne an den Veranstalter.
URL:http://waldgarten-petershausen.de/event/petershausener-runden-ziegel-eichen-streuobstwiesen/
LOCATION:Bahnhof Petershausen (Ziegeleistraße)\, Bäckerei Martin Bahnhofsverkauf\, Petershausen\, 85238\, Germany
CATEGORIES:Exkursion,Veranstaltungen
ATTACH;FMTTYPE=image/jpeg:http://waldgarten-petershausen.de/wp-content/uploads/2025/01/acorn-3694485_640.jpg
ORGANIZER;CN="Bund Naturschutz Ortsgruppe Petershausen":MAILTO:bn.petershausen@gmx.de
END:VEVENT
BEGIN:VEVENT
DTSTART;TZID=Europe/Berlin:20260516T100000
DTEND;TZID=Europe/Berlin:20260516T150000
DTSTAMP:20260422T230344
CREATED:20260205T065814Z
LAST-MODIFIED:20260205T065814Z
UID:457-1778925600-1778943600@waldgarten-petershausen.de
SUMMARY:Kindererlebnistag: Boden ist mehr als Dreck
DESCRIPTION:Waldboden duftet herrlich\, Obst wächst im Boden\, im Winter kann der Boden steinhart gefroren sein. Dabei ist das\, was im Boden passiert\, erstmal ein Mysterium: Da sind Lebewesen unterwegs\, die wir selten zu sehen bekommen und Dinge versteckt\, die wir erst enträtseln müssen. \nWir schauen unter die Oberfläche und erforschen gemeinsam die wundersame Welt der Böden – unterm Moos ist was los! \nDiese Veranstaltung ist für Kinder zwischen 6 und 12 Jahren geeignet. Sie wird organisiert vom Bund Naturschutz\, Ortsgruppe Petershausen. Für eine Anmeldung bitte beim Veranstalter melden. Der Unkostenbeitrag liegt bei 20€ (incl. Mittagessen und Getränke).
URL:http://waldgarten-petershausen.de/event/kindererlebnistag-boden-ist-mehr-als-dreck/
LOCATION:Waldgarten\, Waldgarten Petershausen\, Petershausen\, 85238\, Germany
CATEGORIES:Kurs / Workshop,Veranstaltungen
ATTACH;FMTTYPE=image/jpeg:http://waldgarten-petershausen.de/wp-content/uploads/2026/02/hands-1838658_640.jpg
ORGANIZER;CN="Bund Naturschutz Ortsgruppe Petershausen":MAILTO:bn.petershausen@gmx.de
END:VEVENT
BEGIN:VEVENT
DTSTART;TZID=Europe/Berlin:20260613T100000
DTEND;TZID=Europe/Berlin:20260613T170000
DTSTAMP:20260422T230344
CREATED:20260205T065954Z
LAST-MODIFIED:20260205T072531Z
UID:460-1781344800-1781370000@waldgarten-petershausen.de
SUMMARY:Biergarten mit Schau-Brauen
DESCRIPTION:Heut wird gebraut\, und zwar im Waldgarten: Hobby-brauer Erwin zeigt vor Ort den gesamten Brauvorgang!\nBei einem kühlen Bier und einer kleinen Brotzeit kann man die Entstehung verfolgen\, fachsimpeln oder einfach die Natur im Waldgarten genießen: Alle sind herzliche willkommen!\nKühle Getränke und eine kleine Brotzeit sind vor Ort erhältlich. Bei schlechtem Wetter entfällt die Veranstaltung. \nEs ist keine Anmeldung nötig.
URL:http://waldgarten-petershausen.de/event/biergarten-mit-schau-brauen/
LOCATION:Waldgarten\, Waldgarten Petershausen\, Petershausen\, 85238\, Germany
CATEGORIES:Familienveranstaltung,Fest,Veranstaltungen
ATTACH;FMTTYPE=image/jpeg:http://waldgarten-petershausen.de/wp-content/uploads/2026/02/hop-3334334_640.jpg
END:VEVENT
BEGIN:VEVENT
DTSTART;TZID=Europe/Berlin:20260620T103000
DTEND;TZID=Europe/Berlin:20260620T143000
DTSTAMP:20260422T230344
CREATED:20260205T070828Z
LAST-MODIFIED:20260205T072115Z
UID:468-1781951400-1781965800@waldgarten-petershausen.de
SUMMARY:Schnitzführerschein für Anfänger
DESCRIPTION:Du hast schon mal Erfahrung mit dem Schnitzen gesammelt oder möchtest dein Können verfeinern? Dann bist du hier genau richtig: in diesem Workshop lernst du den sicheren Umgang mit dem Messer\, Schnitzregeln und Schnitztechniken. \nAm Ende des Nachmittags erhält jede/r Teil-nehmer/in selbstverständlich einen Schnitz-Führerschein überreicht. \nMaterial steht ausreichend zur Verfügung. Schnitzmesser mit feststehender Klinge und Schnitzhandschuh falls vorhanden bitte mitbringen. \nDer Kurs wird von der Wildnispädagogin Anja Schmied geleitet. \nDie Veranstaltung ist für Kinder ab 6 Jahren in Begleitung einer erwachsenen Person gedacht. \nEine Anmeldung ist unbedingt erforderlich\, die Teilnehmerzahl ist auf 15 begrenzt\, der Unkostenbeitrag liegt bei 20€.
URL:http://waldgarten-petershausen.de/event/schnitzfuehrerschein-fuer-anfaenger/
LOCATION:Waldgarten\, Waldgarten Petershausen\, Petershausen\, 85238\, Germany
CATEGORIES:Kurs / Workshop,Veranstaltungen
ATTACH;FMTTYPE=image/jpeg:http://waldgarten-petershausen.de/wp-content/uploads/2026/02/schnitzen_anjas-scaled.jpg
END:VEVENT
BEGIN:VEVENT
DTSTART;TZID=Europe/Berlin:20260620T150000
DTEND;TZID=Europe/Berlin:20260620T163000
DTSTAMP:20260422T230344
CREATED:20260205T070233Z
LAST-MODIFIED:20260205T070455Z
UID:463-1781967600-1781973000@waldgarten-petershausen.de
SUMMARY:Petershausener Runden: Waldlehrpfad und Blumenwiesen
DESCRIPTION:Während dieser Runde kommen wir an der schönsten Petershausener Blühwiese vorbei und erfahren von unserem grünen Engel Rainer Mühe\, welcher Pflegeaufwand dahintersteckt. Auf dem Rückweg besuchen wir den Petershausener Waldlehrpfad.\nDie Runde dauert ca. 1\,5 Stunden. Bei Schlechtwetter entfällt sie. \nDie Teilnahme ist kostenfrei\, es ist keine Anmeldung erforderlich. \nDies ist eine Veranstaltung der Bund Naturschutz Ortsgruppe Petershausen. Bei Rückfragen melden Sie sich bitte beim Veranstalter.
URL:http://waldgarten-petershausen.de/event/petershausener-runden-waldlehrpfad-und-blumenwiesen/
LOCATION:Waldlehrpfad\, Wendelsteinweg 2-6\, Petershausen\, 85238\, Germany
CATEGORIES:Exkursion,Veranstaltungen
ATTACH;FMTTYPE=image/jpeg:http://waldgarten-petershausen.de/wp-content/uploads/2026/02/05_biotopwanderung.jpg
ORGANIZER;CN="Bund Naturschutz Ortsgruppe Petershausen":MAILTO:bn.petershausen@gmx.de
END:VEVENT
BEGIN:VEVENT
DTSTART;TZID=Europe/Berlin:20260621T103000
DTEND;TZID=Europe/Berlin:20260621T143000
DTSTAMP:20260422T230344
CREATED:20260205T070943Z
LAST-MODIFIED:20260205T072042Z
UID:471-1782037800-1782052200@waldgarten-petershausen.de
SUMMARY:Schnitzführerschein für Fortgeschrittene
DESCRIPTION:Dieser Kurs richtet sich an alle\, die bereits den Schnitzführerschein erworben haben und ihre Fähigkeiten im Schnitzen vertiefen und erweitern möchten. Im Mittelpunkt steht das achtsame Arbeiten mit Holz und das Weiterentwickeln handwerklicher Fertigkeiten in der Natur.\nWir starten direkt mit der Umsetzung von zwei Werkstücken\, die während des Kurses Schritt für Schritt ausgearbeitet werden. Die Teilnehmenden arbeiten dabei selbstständig\, werden individuell begleitet und erhalten Raum\, eigene Gestaltungsideen umzusetzen.\nVoraussetzung dafür sind sichere Grundkenntnisse im Umgang mit Schnitzwerkzeug. Am Ende nehmen alle Teilnehmenden ihr fertiges Werkstück mit nach Hause. \nDer Kurs wird von der Wildnispädagogin Anja Schmied geleitet. \nDie Veranstaltung ist für Kinder ab 6 Jahren in Begleitung einer erwachsenen Person gedacht. \nEine Anmeldung ist unbedingt erforderlich\, die Teilnehmerzahl ist auf 15 begrenzt\, der Unkostenbeitrag liegt bei 20€.
URL:http://waldgarten-petershausen.de/event/schnitzfuehrerschein-fuer-fortgeschrittene/
LOCATION:Waldgarten\, Waldgarten Petershausen\, Petershausen\, 85238\, Germany
CATEGORIES:Kurs / Workshop,Veranstaltungen
ATTACH;FMTTYPE=image/jpeg:http://waldgarten-petershausen.de/wp-content/uploads/2026/02/schnitzen_anjas-scaled.jpg
END:VEVENT
BEGIN:VEVENT
DTSTART;TZID=Europe/Berlin:20260627T100000
DTEND;TZID=Europe/Berlin:20260627T130000
DTSTAMP:20260422T230344
CREATED:20260205T071312Z
LAST-MODIFIED:20260205T071312Z
UID:475-1782554400-1782565200@waldgarten-petershausen.de
SUMMARY:Natur vor der Tür: Insekten
DESCRIPTION:An diesem Vormittag gehen wir gemeinsam auf Entdeckungstour und versuchen\, möglichst viele verschiedene Insektenarten im Pflanzgarten zu bestimmen.\nMit Bestimmungsbüchern und Apps lernen wir die faszinierende Vielfalt der kleinen Krabbler kennen und erleben Biodiversität direkt vor unserer Haustür. Schritt für Schritt erschließen wir uns die Merkmale unterschiedlicher Arten und erfahren\, warum Insekten für unser Ökosystem so wichtig sind. Eine spannende Aktion für alle\, die Natur hautnah erleben möchten.\nFalls vorhanden bitte mitbringen: (Becher-)Lupe\, Schmetterlingsnetz\, Bestimmungsbücher\, Smartphone. \nDies ist eine Veranstaltung der Ortsgruppe Petershausen des Bund Naturschutz. Bitte melden Sie sich beim Veranstalter an. Die Teilnahme ist kostenfrei.
URL:http://waldgarten-petershausen.de/event/natur-vor-der-tuer-insekten/
LOCATION:Waldgarten\, Waldgarten Petershausen\, Petershausen\, 85238\, Germany
CATEGORIES:Kurs / Workshop,Veranstaltungen
ORGANIZER;CN="Bund Naturschutz Ortsgruppe Petershausen":MAILTO:bn.petershausen@gmx.de
END:VEVENT
BEGIN:VEVENT
DTSTART;TZID=Europe/Berlin:20260628T100000
DTEND;TZID=Europe/Berlin:20260628T120000
DTSTAMP:20260422T230344
CREATED:20260205T071551Z
LAST-MODIFIED:20260205T071551Z
UID:479-1782640800-1782648000@waldgarten-petershausen.de
SUMMARY:Jahreshauptverammlung
DESCRIPTION:Kurz vor dem Sommerfest findet um 10 Uhr die Jahreshauptversammlung des WaldGarten-Vereins statt. Der Vorstand informiert über das letzte Vereinsjahr\, die Finanzen und geplanten Aktivitäten. Alle interessierten Personen sind eingeladen.
URL:http://waldgarten-petershausen.de/event/jahreshauptverammlung/
LOCATION:Waldgarten\, Waldgarten Petershausen\, Petershausen\, 85238\, Germany
CATEGORIES:Fest,Veranstaltungen
END:VEVENT
BEGIN:VEVENT
DTSTART;TZID=Europe/Berlin:20260628T120000
DTEND;TZID=Europe/Berlin:20260628T170000
DTSTAMP:20260422T230344
CREATED:20260205T071453Z
LAST-MODIFIED:20260205T071612Z
UID:477-1782648000-1782666000@waldgarten-petershausen.de
SUMMARY:Sommerfest
DESCRIPTION:Das traditionelle Vereinsfest für Jung und Alt! Es werden Grillspezialitäten und gekühlte Getränke angeboten\, später gibt es Kaffee vom Fairkaufladen und frische\, selbstgebackene Kuchen. Für Kinder gibt es auch was zu tun. \nAlle sind herzlich eingeladen.
URL:http://waldgarten-petershausen.de/event/sommerfest-2/
LOCATION:Waldgarten\, Waldgarten Petershausen\, Petershausen\, 85238\, Germany
CATEGORIES:Fest,Veranstaltungen
ATTACH;FMTTYPE=image/png:http://waldgarten-petershausen.de/wp-content/uploads/2025/01/sommerfest.png
END:VEVENT
BEGIN:VEVENT
DTSTART;TZID=Europe/Berlin:20260725T090000
DTEND;TZID=Europe/Berlin:20260725T123000
DTSTAMP:20260422T230344
CREATED:20260205T071738Z
LAST-MODIFIED:20260205T072020Z
UID:481-1784970000-1784982600@waldgarten-petershausen.de
SUMMARY:Besichtigung des ökologischen Obstbau-Betriebs Karmann
DESCRIPTION:Der Familienbetrieb Karmann ist der einzige biologische Obstbaubetrieb im Landkreis Pfaffenhofen. Eine Besonder-heit ist der Pfirsichanbau.\nAm Tag der Führung wird das Obst kurz vor der Ernte stehen. Volle Obstbäume mit dunklem dichtem Laub erzählen von der intensiven Arbeit eines Obstbauern. Neben den verschiedenen Baumarten\, ihren Ansprüchen und ihrer Entwicklung werden ökonomische und ökologische Aspekte des Obstbaus erläutert. Auch über Pflanzenschutz im ökologischen Obstbau und technische Spezialmaschinen wird ausführlich informiert.\nNeben einem tollen Tag in der Natur gibt es auch kleine Schmankerl aus dem betriebseigenen Portfolio. \nDie Teilnahmegebühr liegt bei 9 Euro. Es wird versucht Fahrgemeinschaften zu bilden – eine Anmeldung ist erforderlich.
URL:http://waldgarten-petershausen.de/event/besichtigung-des-oekologischen-obstbau-betriebs-karmann/
LOCATION:Obstbaubetrieb Karmann\, Kreut 2\, Reichtershausen\, 85293\, Germany
CATEGORIES:Betriebsbesichtigung,Veranstaltungen
END:VEVENT
BEGIN:VEVENT
DTSTART;TZID=Europe/Berlin:20260925T183000
DTEND;TZID=Europe/Berlin:20260925T203000
DTSTAMP:20260422T230344
CREATED:20260205T072351Z
LAST-MODIFIED:20260205T072351Z
UID:489-1790361000-1790368200@waldgarten-petershausen.de
SUMMARY:Wenn die Nacht erwacht
DESCRIPTION:Wir laden Familien zu einem stimmungsvollen Rundgang in die Natur ein. Gemeinsam entdecken wir\, wie sich Wald und Wiese verwandeln\, wenn die Sonne untergeht und nachtaktive Tiere aktiv werden. Mit kleinen Sinnesübungen lauschen wir den geheimnisvollen Geräuschen der Dämmerung und erfahren Spannendes über Fledermäuse\, Eulen & Co. Spielerische Mitmachaktionen sorgen dafür\, dass auch Kinder die nächtliche Welt mit Freude erkunden. Ein magisches Erlebnis für Groß und Klein\, das die Natur aus einer ganz neuen Perspektive sichtbar macht. \nUnser Referent ist Jörg Wunsch. Das ist eine Veranstaltung des Bund Naturschutz\, Ortgruppe Petershausen. Bitte melden Sie sich beim Veranstalter dafür an. Die Teilnahme ist kostenfrei.
URL:http://waldgarten-petershausen.de/event/wenn-die-nacht-erwacht/
LOCATION:Waldgarten\, Waldgarten Petershausen\, Petershausen\, 85238\, Germany
CATEGORIES:Familienveranstaltung,Kurs / Workshop,Veranstaltungen
ATTACH;FMTTYPE=image/jpeg:http://waldgarten-petershausen.de/wp-content/uploads/2026/02/eurasian-pygmy-owl-6673563_640.jpg
ORGANIZER;CN="Bund Naturschutz Ortsgruppe Petershausen":MAILTO:bn.petershausen@gmx.de
END:VEVENT
BEGIN:VEVENT
DTSTART;TZID=Europe/Berlin:20261003T130000
DTEND;TZID=Europe/Berlin:20261004T170000
DTSTAMP:20260422T230344
CREATED:20260205T072911Z
LAST-MODIFIED:20260205T073026Z
UID:494-1791032400-1791133200@waldgarten-petershausen.de
SUMMARY:Apfelfest
DESCRIPTION:Der Höhepunkt des Apfeljahres: das zwei-tägige Apfelfest\, eine Kooperationsveranstal-tung von WaldGarten\, BN\, Aktiver Schule und Waldkindergarten! \nEs ist ein buntes Programm für die ganze Familie rund um das Thema Apfel (Ausstellung Vielfalt\, Märchen-Tipi\, Basteln\, Apfelbar\, etc.) geplant. Unbekannte Apfelsorten können mitgebracht und vom Pomologen Jürgen Pompe bestimmt werden. Musikalische Begleitung wird auch dabei sein. \nDas Fest beginnt am Samstag und Sonntag jeweils um 13 Uhr und endet jeweils mit der Dämmerung gegen 17 Uhr.
URL:http://waldgarten-petershausen.de/event/apfelfest-3/
LOCATION:Waldgarten\, Waldgarten Petershausen\, Petershausen\, 85238\, Germany
CATEGORIES:Familienveranstaltung,Fest,Veranstaltungen
ATTACH;FMTTYPE=image/png:http://waldgarten-petershausen.de/wp-content/uploads/2026/02/Screenshot-2026-01-09-160518.png
END:VEVENT
BEGIN:VEVENT
DTSTART;TZID=Europe/Berlin:20261017T100000
DTEND;TZID=Europe/Berlin:20261017T130000
DTSTAMP:20260422T230344
CREATED:20260205T073346Z
LAST-MODIFIED:20260205T073346Z
UID:499-1792231200-1792242000@waldgarten-petershausen.de
SUMMARY:Wir helfen Wildtieren im Winter
DESCRIPTION:In unserem Bastelworkshop gestalten wir gemeinsam einfache Überwinterungs-hilfen für Igel und kreative Futterangebote für heimische Vögel. Dabei erfahren Groß und Klein\, wie Wildtiere die kalte Jahreszeit überstehen und wie wir sie dabei sinnvoll unterstützen können. Mit natürlichen Materialien\, praktischen Tipps und jeder Menge Spaß entsteht so Nützliches für Garten\, Balkon oder Hof. Ein kreativer Workshop für alle\, die Tieren im Winter etwas Gutes tun möchten. \nDas ist eine Veranstaltung der Ortgruppe Petershausen des Bund Naturschutz. Bitte melden Sich beim Veranstalter an. \nDer Workshop wird von erfahrenen Bastler angeleitet. Für alles was mit nach Hause genommen wird\, wird eine Spende in Höhe des Sachwerts ergebeten um die Unkosten zu decken.
URL:http://waldgarten-petershausen.de/event/wir-helfen-wildtieren-im-winter/
LOCATION:Waldgarten\, Waldgarten Petershausen\, Petershausen\, 85238\, Germany
CATEGORIES:Familienveranstaltung,Kurs / Workshop,Veranstaltungen
ATTACH;FMTTYPE=image/jpeg:http://waldgarten-petershausen.de/wp-content/uploads/2026/02/hedgehog-9843927_640.jpg
ORGANIZER;CN="Bund Naturschutz Ortsgruppe Petershausen":MAILTO:bn.petershausen@gmx.de
END:VEVENT
BEGIN:VEVENT
DTSTART;TZID=Europe/Berlin:20261128T130000
DTEND;TZID=Europe/Berlin:20261128T150000
DTSTAMP:20260422T230344
CREATED:20260205T073551Z
LAST-MODIFIED:20260205T073551Z
UID:502-1795870800-1795878000@waldgarten-petershausen.de
SUMMARY:Adventskranzbinden
DESCRIPTION:Adventskränze aus Natur-materialien selbst binden\, an der Feuerschale mit Apfelpunsch sitzen\, begleitet von erfahrenen Kranzbinderinnen. \nFür Material und Verpflegung ist gesorgt. Der Unkostenbeitrag liegt bei 15 € (für Mitglieder 12). Eine Anmeldung ist erforderlich.
URL:http://waldgarten-petershausen.de/event/adventskranzbinden-3/
LOCATION:Waldgarten\, Waldgarten Petershausen\, Petershausen\, 85238\, Germany
CATEGORIES:Kurs / Workshop,Veranstaltungen
ATTACH;FMTTYPE=image/jpeg:http://waldgarten-petershausen.de/wp-content/uploads/2025/01/adventskranzbinden.jpg
END:VEVENT
END:VCALENDAR