BEGIN:VCALENDAR
VERSION:2.0
PRODID:-//Wir lieben Natur und Gärten. - ECPv6.15.20//NONSGML v1.0//EN
CALSCALE:GREGORIAN
METHOD:PUBLISH
X-WR-CALNAME:Wir lieben Natur und Gärten.
X-ORIGINAL-URL:http://waldgarten-petershausen.de
X-WR-CALDESC:Veranstaltungen für Wir lieben Natur und Gärten.
REFRESH-INTERVAL;VALUE=DURATION:PT1H
X-Robots-Tag:noindex
X-PUBLISHED-TTL:PT1H
BEGIN:VTIMEZONE
TZID:Europe/Berlin
BEGIN:DAYLIGHT
TZOFFSETFROM:+0100
TZOFFSETTO:+0200
TZNAME:CEST
DTSTART:20230326T010000
END:DAYLIGHT
BEGIN:STANDARD
TZOFFSETFROM:+0200
TZOFFSETTO:+0100
TZNAME:CET
DTSTART:20231029T010000
END:STANDARD
BEGIN:DAYLIGHT
TZOFFSETFROM:+0100
TZOFFSETTO:+0200
TZNAME:CEST
DTSTART:20240331T010000
END:DAYLIGHT
BEGIN:STANDARD
TZOFFSETFROM:+0200
TZOFFSETTO:+0100
TZNAME:CET
DTSTART:20241027T010000
END:STANDARD
BEGIN:DAYLIGHT
TZOFFSETFROM:+0100
TZOFFSETTO:+0200
TZNAME:CEST
DTSTART:20250330T010000
END:DAYLIGHT
BEGIN:STANDARD
TZOFFSETFROM:+0200
TZOFFSETTO:+0100
TZNAME:CET
DTSTART:20251026T010000
END:STANDARD
BEGIN:DAYLIGHT
TZOFFSETFROM:+0100
TZOFFSETTO:+0200
TZNAME:CEST
DTSTART:20260329T010000
END:DAYLIGHT
BEGIN:STANDARD
TZOFFSETFROM:+0200
TZOFFSETTO:+0100
TZNAME:CET
DTSTART:20261025T010000
END:STANDARD
BEGIN:DAYLIGHT
TZOFFSETFROM:+0100
TZOFFSETTO:+0200
TZNAME:CEST
DTSTART:20270328T010000
END:DAYLIGHT
BEGIN:STANDARD
TZOFFSETFROM:+0200
TZOFFSETTO:+0100
TZNAME:CET
DTSTART:20271031T010000
END:STANDARD
END:VTIMEZONE
BEGIN:VEVENT
DTSTART;TZID=Europe/Berlin:20260418T110000
DTEND;TZID=Europe/Berlin:20260418T130000
DTSTAMP:20260423T005910
CREATED:20260205T065050Z
LAST-MODIFIED:20260205T072610Z
UID:450-1776510000-1776517200@waldgarten-petershausen.de
SUMMARY:Workshop Topfgarten
DESCRIPTION:Im Anschluss bzw. in Verbindung mit dem Tauschmarkt bieten wir einen kleinen Workshop an\, bei dem ein kleiner Topf-garten für Balkon oder Terrasse entsteht. Wir verwenden dazu verschiedene Gefäßtypen (Holzkisten\, Upcycling-Kisten\, alte Körbe…) und bepflanzen sie mit Gemüsepflanzen\, bienenfreundlichen Stauden\, Pflanzen vom Tausch-markt oder Einjährigen. \nGefäße\, Pflanzen und Erde werden gestellt\, können aber auch gerne mitgebracht werden (der Unkostenbeitrag liegt bei 10€ wenn keine eigenen Materialien verwendet werden). \nUm gut vorbereitet zu sein\, bitten wir um eine Anmeldung.
URL:http://waldgarten-petershausen.de/event/workshop-topfgarten/
LOCATION:Waldgarten\, Waldgarten Petershausen\, Petershausen\, 85238\, Germany
CATEGORIES:Familienveranstaltung,Kurs / Workshop,Veranstaltungen
ATTACH;FMTTYPE=image/jpeg:http://waldgarten-petershausen.de/wp-content/uploads/2026/02/garden-8115073_640.jpg
END:VEVENT
BEGIN:VEVENT
DTSTART;TZID=Europe/Berlin:20260418T100000
DTEND;TZID=Europe/Berlin:20260418T113000
DTSTAMP:20260423T005910
CREATED:20260205T064727Z
LAST-MODIFIED:20260205T064727Z
UID:448-1776506400-1776511800@waldgarten-petershausen.de
SUMMARY:Tauschmarkt
DESCRIPTION:Bei der Frühjahrsdurchsicht fallen häufig Stauden an\, die im Garten keinen Platz mehr finden. Auch bei der Ansaat bleiben oft Samenreste übrig. Bei dem traditionellen Tauschmarkt kann fleißig getauscht werden. Dazu gehört alles\, was im Garten wächst\, Saatgut\, Zimmerpflanzen\, Gartenbücher\, Werkzeug… \nKommen Sie auch gerne vorbei\, wenn Sie nichts anbieten können\, erfahrungsgemäß suchen einige Pflanzen immer gerne auch ohne Gegenangebot ein neues Zuhause. \nEs ist keine Anmeldung erforderlich\, die Teilnahme ist kostenfrei.
URL:http://waldgarten-petershausen.de/event/tauschmarkt-2/
LOCATION:Waldgarten\, Waldgarten Petershausen\, Petershausen\, 85238\, Germany
CATEGORIES:Kurs / Workshop,Veranstaltungen
ATTACH;FMTTYPE=image/jpeg:http://waldgarten-petershausen.de/wp-content/uploads/2024/11/tauschmarkt.jpeg
END:VEVENT
BEGIN:VEVENT
DTSTART;TZID=Europe/Berlin:20260417T193000
DTEND;TZID=Europe/Berlin:20260417T210000
DTSTAMP:20260423T005910
CREATED:20260205T063846Z
LAST-MODIFIED:20260205T064342Z
UID:443-1776454200-1776459600@waldgarten-petershausen.de
SUMMARY:Petershausener Runden: Fledermäuse in Petershausen
DESCRIPTION:Im Rahmen eines kleinen Rundgangs machen wir uns mit Hilfe eines Fledermausdetektors und aufmerksamer Beob-achtung auf die Suche nach unseren flinken nachtaktiven Mitbewohnern. Dabei erfahren Sie spannendes über die heimische Fledermauswelt\, ihre Gefährdung und Möglichkeiten zu ihrem Schutz. Dieser Rundgang richtet sich vor allem an Erwachsene. Für Familien mit Kindern empfehlen wir die Veranstaltung am 17.Oktober. \nDas ist eine Veranstaltung des Bund Naturschutz\, Ortsgruppe Petershausen im Rahmen des gemeinsamen Jahresprogramms. Führen wird Jörg Wunsch\, ein erfahrener Fledermaus-Freund. Die Teilnahme ist kostenfrei. \nBei Regen muss der Rundgang leider entfallen. \n 
URL:http://waldgarten-petershausen.de/event/petershausener-runden-fledermaeuse-in-petershausen/
LOCATION:Bahnhof Petershausen (Ziegeleistraße)\, Bäckerei Martin Bahnhofsverkauf\, Petershausen\, 85238\, Germany
CATEGORIES:Exkursion,Veranstaltungen
ATTACH;FMTTYPE=image/jpeg:http://waldgarten-petershausen.de/wp-content/uploads/2025/01/full-moon-3659314_640.jpg
END:VEVENT
BEGIN:VEVENT
DTSTART;TZID=Europe/Berlin:20260404T140000
DTEND;TZID=Europe/Berlin:20260404T160000
DTSTAMP:20260423T005910
CREATED:20260205T063547Z
LAST-MODIFIED:20260205T072553Z
UID:441-1775311200-1775318400@waldgarten-petershausen.de
SUMMARY:Kleines Osterfest im Waldgarten
DESCRIPTION:Gemeinsam Osternester suchen macht noch mehr Spaß! Traditionell bieten wir das am Nachmittag des Karsamstags im Waldgarten an. Kommen Sie einfach mit Ihren Kindern vorbei\, genießen ein Stück Kuchen und Kaffee\, während die Kinder ihr kleines Osternest suchen. \nDie Teilnahme ist kostenfrei\, über eine Spende würden wir uns freuen. \nEin Tipp dazu: Die Nester gehen schnell weg und die Anzahl ist endlich: Deshalb bitte pünktlich kommen.
URL:http://waldgarten-petershausen.de/event/kleines-osterfest-im-waldgarten-2/
LOCATION:Waldgarten\, Waldgarten Petershausen\, Petershausen\, 85238\, Germany
CATEGORIES:Familienveranstaltung,Fest,Veranstaltungen
ATTACH;FMTTYPE=image/jpeg:http://waldgarten-petershausen.de/wp-content/uploads/2025/01/easter-4090116_640.jpg
END:VEVENT
BEGIN:VEVENT
DTSTART;TZID=Europe/Berlin:20260314T140000
DTEND;TZID=Europe/Berlin:20260314T160000
DTSTAMP:20260423T005910
CREATED:20260205T063233Z
LAST-MODIFIED:20260205T072625Z
UID:438-1773496800-1773504000@waldgarten-petershausen.de
SUMMARY:Wir bauen Nistkästen
DESCRIPTION:Wir bauen verschiedene Nistkasten-Typen (Halbhöhlenkasten\, Höhlenbrüterkasten\, Waldkauznistkasten…) für Vögel und Quartierkästen für Fledermäuse. Dazu gibt’s eine Einführung zum Zweck\, für den idealen Platz und zur Pflege. \nDas Material wird gestellt\, Hammer oder Akku-schrauber können gerne mitgebracht werden. \nDie Kästen können anschließend zum Materialpreis von 5-8 € (je nach Kasten) erworben werden. Ansonsten ist die Teilnahme kostenfrei. \nDiese Veranstaltung wird von der Bund Naturschutz Ortsgruppe organisiert und von erfahrenen Nistkastenbauern geleitet. Bitte melden Sie sich beim BN\, wenn Sie bei dieser Veranstaltung teilnehmen möchten.
URL:http://waldgarten-petershausen.de/event/wir-bauen-nistkaesten/
LOCATION:Waldgarten\, Waldgarten Petershausen\, Petershausen\, 85238\, Germany
CATEGORIES:Familienveranstaltung,Kurs / Workshop,Veranstaltungen
ATTACH;FMTTYPE=image/jpeg:http://waldgarten-petershausen.de/wp-content/uploads/2025/01/tree-swallow-6357383_640.jpg
ORGANIZER;CN="Bund Naturschutz Ortsgruppe Petershausen":MAILTO:bn.petershausen@gmx.de
END:VEVENT
BEGIN:VEVENT
DTSTART;TZID=Europe/Berlin:20260307T130000
DTEND;TZID=Europe/Berlin:20260307T160000
DTSTAMP:20260423T005910
CREATED:20260131T111456Z
LAST-MODIFIED:20260305T084654Z
UID:427-1772888400-1772899200@waldgarten-petershausen.de
SUMMARY:Obstbäume verstehen und pflegen
DESCRIPTION:Warum schneiden wir Obstbäume? Nach welchen Regeln wächst der Baum? Warum und wie wird geschnitten?\nDiese und andere F \nragen werden wir im Kurs klären und im Anschluss das Gelernte an den Bäumen umsetzen. \nBitte wetterfeste Kleidung\, Schnittwerkzeug wenn vorhanden und Schreibzeug mitbringen. \nReferentin: Christine Dombrowsi\, zertifizierte Baumwartin \nBeitrag: Freiwillige Spende \nAnmeldung erforderlich
URL:http://waldgarten-petershausen.de/event/obstbaeume-verstehen-und-pflegen-2/
LOCATION:Waldgarten\, Waldgarten Petershausen\, Petershausen\, 85238\, Germany
CATEGORIES:Kurs / Workshop,Veranstaltungen
ATTACH;FMTTYPE=image/png:http://waldgarten-petershausen.de/wp-content/uploads/2025/01/apple-tree-3735679_640.png
END:VEVENT
BEGIN:VEVENT
DTSTART;TZID=Europe/Berlin:20251129T130000
DTEND;TZID=Europe/Berlin:20251129T150000
DTSTAMP:20260423T005910
CREATED:20250418T061506Z
LAST-MODIFIED:20250418T061506Z
UID:411-1764421200-1764428400@waldgarten-petershausen.de
SUMMARY:Adventskranzbinden
DESCRIPTION:Adventskränze aus Naturmaterialien selbst binden\, an der Feuerschale mit Apfelpunsch sitzen\, begleitet von erfahrenen Kranzbinderinnen. Für Material und Verpflegung ist gesorgt. \nLeitung: Antje Grantas\,  Irene Marquart-Schüpferling \nGebühr: 15 € (Mitglieder 12€)\nAnmeldung: info@waldgarten-petershausen.de \nVeranstaltungsort: Waldgarten (Pflanzgarten)
URL:http://waldgarten-petershausen.de/event/adventskranzbinden-2/
LOCATION:Waldgarten\, Waldgarten Petershausen\, Petershausen\, 85238\, Germany
CATEGORIES:Kurs / Workshop,Veranstaltungen
END:VEVENT
BEGIN:VEVENT
DTSTART;TZID=Europe/Berlin:20251025T140000
DTEND;TZID=Europe/Berlin:20251025T160000
DTSTAMP:20260423T005910
CREATED:20250418T061330Z
LAST-MODIFIED:20250418T061330Z
UID:409-1761400800-1761408000@waldgarten-petershausen.de
SUMMARY:Vogelfutter dekorativ!
DESCRIPTION:Gemeinsam stellen wir für Gartenvögel Winterfutter her. Dabei lernen wir\, welche Nahrung unsere Vögel brauchen und was beim Ausbringen von Vogelfutter grundsätzlich zu beachten ist. Eine besondere Bedeutung bei der Herstellung hat der dekorative Aspekt – denn schön ausschauen solls‘ am Ende auch! \nReferent: Ralf Schüpferling\nMaterialkosten: 5€\nAnmeldung: info@waldgarten-petershausen.de \nVeranstaltungsort: Waldgarten (Pflanzgarten)
URL:http://waldgarten-petershausen.de/event/vogelfutter-dekorativ/
LOCATION:Waldgarten\, Waldgarten Petershausen\, Petershausen\, 85238\, Germany
CATEGORIES:Kurs / Workshop,Veranstaltungen
END:VEVENT
BEGIN:VEVENT
DTSTART;TZID=Europe/Berlin:20251005T130000
DTEND;TZID=Europe/Berlin:20251005T170000
DTSTAMP:20260423T005910
CREATED:20250418T060514Z
LAST-MODIFIED:20250418T060514Z
UID:407-1759669200-1759683600@waldgarten-petershausen.de
SUMMARY:Apfelfest
DESCRIPTION:Der Höhepunkt des Apfeljahres: das Apfelfest\, eine Kooperationsveranstaltung aller Programmpartner! Am Samstag ist ein buntes Programm für die ganze Familie rund um das Thema Apfel (Ausstellung Vielfalt\, Märchen-Tipi\, Bogenschießen\, Basteln\, Apfelbar\, etc.) geplant. Am Sonntag wird es ein Apfel-Café und die Gelegenheit zur Apfelsorten-Bestimmung mit dem Pomologen Jürgen Pompe geben. Musikalische Begleitung wird auch dabei sein. \nEintritt frei.
URL:http://waldgarten-petershausen.de/event/apfelfest-2/
LOCATION:Waldgarten\, Waldgarten Petershausen\, Petershausen\, 85238\, Germany
CATEGORIES:Fest,Veranstaltungen
END:VEVENT
BEGIN:VEVENT
DTSTART;TZID=Europe/Berlin:20251004T130000
DTEND;TZID=Europe/Berlin:20251004T170000
DTSTAMP:20260423T005910
CREATED:20250418T060442Z
LAST-MODIFIED:20250418T061158Z
UID:405-1759582800-1759597200@waldgarten-petershausen.de
SUMMARY:Apfelfest
DESCRIPTION:Der Höhepunkt des Apfeljahres: das Apfelfest\, eine Kooperationsveranstaltung aller Programmpartner! Am Samstag ist ein buntes Programm für die ganze Familie rund um das Thema Apfel (Ausstellung Vielfalt\, Märchen-Tipi\, Bogenschießen\, Basteln\, Apfelbar\, etc.) geplant. Am Sonntag wird es ein Apfel-Café und die Gelegenheit zur Apfelsorten-Bestimmung mit dem Pomologen Jürgen Pompe geben. Musikalische Begleitung wird auch dabei sein. \nEintritt frei.
URL:http://waldgarten-petershausen.de/event/apfelfest/
LOCATION:Waldgarten\, Waldgarten Petershausen\, Petershausen\, 85238\, Germany
CATEGORIES:Fest,Veranstaltungen
END:VEVENT
BEGIN:VEVENT
DTSTART;TZID=Europe/Berlin:20250928T103000
DTEND;TZID=Europe/Berlin:20250928T143000
DTSTAMP:20260423T005910
CREATED:20250418T060314Z
LAST-MODIFIED:20250418T060314Z
UID:403-1759055400-1759069800@waldgarten-petershausen.de
SUMMARY:Schnitzführerschein
DESCRIPTION:Du hast schon Erfahrung mit dem Schnitzen oder möchtest dein Können verfeinern? Dann bist du hier genau richtig! In diesem Workshop lernst du den sicheren Umgang mit dem Messer\, Schnitzregeln und Schnitztechniken. \nAm Ende des Nachmittags erhält jede/r Teilnehmer/in selbstverständlich einen Schnitzführerschein überreicht.  Material steht ausreichend zur Verfügung. \nLeitung: Anja Schmied\nGebühr: 20€\nAnmeldung: info@waldgarten-petershausen.de \nVeranstaltungsort: Waldgarten (Pflanzgarten)\nMitbringen: Schnitzmesser mit feststehender Klinge und Schnitzhandschuh falls vorhanden. \n 
URL:http://waldgarten-petershausen.de/event/schnitzfuehrerschein-2/
LOCATION:Waldgarten\, Waldgarten Petershausen\, Petershausen\, 85238\, Germany
CATEGORIES:Kurs / Workshop,Veranstaltungen
END:VEVENT
BEGIN:VEVENT
DTSTART;TZID=Europe/Berlin:20250712T100000
DTEND;TZID=Europe/Berlin:20250712T160000
DTSTAMP:20260423T005910
CREATED:20250418T060136Z
LAST-MODIFIED:20250707T155342Z
UID:401-1752314400-1752336000@waldgarten-petershausen.de
SUMMARY:Brechen\, Flachsen und mehr: Rund um den Lein - FÄLLT AUS!
DESCRIPTION:Diese Veranstaltung muss leider ausfallen. \n 
URL:http://waldgarten-petershausen.de/event/brechen-flachsen-und-mehr-rund-um-den-lein/
LOCATION:Waldgarten\, Waldgarten Petershausen\, Petershausen\, 85238\, Germany
CATEGORIES:Kurs / Workshop,Veranstaltungen
END:VEVENT
BEGIN:VEVENT
DTSTART;TZID=Europe/Berlin:20250629T120000
DTEND;TZID=Europe/Berlin:20250629T170000
DTSTAMP:20260423T005910
CREATED:20250418T055946Z
LAST-MODIFIED:20250418T055946Z
UID:399-1751198400-1751216400@waldgarten-petershausen.de
SUMMARY:Sommerfest
DESCRIPTION:Das traditionelle Vereinsfest für Jung und Alt! Es werden Grillspezialitäten und gekühlte Getränke angeboten\, später gibt es Kaffee vom Fairkaufladen und frische\, selbstgebackene Kuchen. Im Vorfeld findet um 10 Uhr die Jahreshauptversammlung des Waldgartenvereins statt. Der Vorstand informiert über das letzte Vereinsjahr\, die Finanzen und geplanten Aktivitäten. Alle interessierten Personen sind eingeladen. \nEintritt frei.
URL:http://waldgarten-petershausen.de/event/sommerfest/
CATEGORIES:Fest,Veranstaltungen
END:VEVENT
BEGIN:VEVENT
DTSTART;TZID=Europe/Berlin:20250628T160000
DTEND;TZID=Europe/Berlin:20250628T200000
DTSTAMP:20260423T005910
CREATED:20250418T055837Z
LAST-MODIFIED:20250418T055837Z
UID:397-1751126400-1751140800@waldgarten-petershausen.de
SUMMARY:Backen mit Sauerteig im Lehmofen (Aktive Schule)
DESCRIPTION:Brot und Brezn für Eltern und ihre Kinder mit einem Profi-Bäcker backen. \nReferent: Fridolin Artmann\nGebühr: 15€ Erwachsene\, 11€ Kinder \nAnmeldung: info@freilernen.de\nVeranstaltungsort:  Waldgarten („Pflanzgarten“)
URL:http://waldgarten-petershausen.de/event/backen-mit-sauerteig-im-lehmofen-aktive-schule/
LOCATION:Waldgarten\, Waldgarten Petershausen\, Petershausen\, 85238\, Germany
CATEGORIES:Kurs / Workshop,Veranstaltungen
END:VEVENT
BEGIN:VEVENT
DTSTART;TZID=Europe/Berlin:20250601T103000
DTEND;TZID=Europe/Berlin:20250601T143000
DTSTAMP:20260423T005910
CREATED:20250418T054024Z
LAST-MODIFIED:20250418T055508Z
UID:395-1748773800-1748788200@waldgarten-petershausen.de
SUMMARY:Schnitzführerschein
DESCRIPTION:Du hast schon Erfahrung mit dem Schnitzen oder möchtest dein Können verfeinern? Dann bist du hier genau richtig! In diesem Workshop lernst du den sicheren Umgang mit dem Messer\, Schnitzregeln und Schnitztechniken. \nAm Ende des Nachmittags erhält jede/r Teilnehmer/in selbstverständlich einen Schnitzführerschein überreicht.  Material steht ausreichend zur Verfügung. \nLeitung: Anja Schmied\nGebühr: 20€\nAnmeldung: info@waldgarten-petershausen.de \nVeranstaltungsort: Waldgarten (Pflanzgarten)\nMitbringen: Schnitzmesser mit feststehender Klinge und Schnitzhandschuh falls vorhanden. \n 
URL:http://waldgarten-petershausen.de/event/schnitzfuehrerschein/
LOCATION:Waldgarten\, Waldgarten Petershausen\, Petershausen\, 85238\, Germany
CATEGORIES:Kurs / Workshop,Veranstaltungen
END:VEVENT
BEGIN:VEVENT
DTSTART;TZID=Europe/Berlin:20250517T100000
DTEND;TZID=Europe/Berlin:20250517T150000
DTSTAMP:20260423T005910
CREATED:20250417T082203Z
LAST-MODIFIED:20250418T055529Z
UID:374-1747476000-1747494000@waldgarten-petershausen.de
SUMMARY:Kindererlebnistag - Thema Vögel (BN)
DESCRIPTION:Sicher und warm hinter dem Fenster sitzen? Nein\, danke! \nWir gehen lieber raus und erforschen eine der schönsten Tiergruppen überhaupt: die Vögel. \nMal sehen\, wer ihnen am nächsten kommt\, welcher Vogel am schönsten singt und ob es uns auch gelingt abzuheben und mit unseren gefiederten Freunden durch die Luft zu segeln… \nLeitung: Evi Woitke\, Ralf Schüpferling \nGebühr: 20 € (incl. Mittagsverpflegung & Getränke) \nAnmeldung: info@bn-petershausen.de oder info@waldgarten-petershausen.de \nVeranstaltungsort: Waldgarten / Streuobstwiese
URL:http://waldgarten-petershausen.de/event/kindererlebnistag-thema-voegel-bn/
LOCATION:Waldgarten\, Waldgarten Petershausen\, Petershausen\, 85238\, Germany
CATEGORIES:Veranstaltungen
END:VEVENT
BEGIN:VEVENT
DTSTART;TZID=Europe/Berlin:20250510T083000
DTEND;TZID=Europe/Berlin:20250510T103000
DTSTAMP:20260423T005910
CREATED:20250126T123318Z
LAST-MODIFIED:20250126T123345Z
UID:361-1746865800-1746873000@waldgarten-petershausen.de
SUMMARY:Sensenkurs
DESCRIPTION:Mit der  Sense mähen ohne Anstrengung: Hier lernen Sie die richtige Technik dafür\, außerdem auch Instandhaltungsarbeiten\, Dengeln und Wetzen. Bringen Sie gerne Ihre eigene Sense mit oder leihen Sie sich eine Sense des Vereins. \nZwischendurch findet ein Erfahrungsaustausch bei einer gemeinsamen Brotzeit statt. Bitte Brotzeit selber mitbringen\, Getränke können vor Ort gekauft werden. \nUm Anmeldung wird gebeten unter info@waldgarten-petershausen.de oder  08137 5925 (Erich Kraus).
URL:http://waldgarten-petershausen.de/event/sensenkurs/
LOCATION:Waldgarten\, Waldgarten Petershausen\, Petershausen\, 85238\, Germany
CATEGORIES:Kurs / Workshop,Veranstaltungen
END:VEVENT
BEGIN:VEVENT
DTSTART;TZID=Europe/Berlin:20250426T100000
DTEND;TZID=Europe/Berlin:20250426T120000
DTSTAMP:20260423T005910
CREATED:20250126T123132Z
LAST-MODIFIED:20250418T055609Z
UID:359-1745661600-1745668800@waldgarten-petershausen.de
SUMMARY:Tauschmarkt
DESCRIPTION:Bei der Frühjahrsdurchsicht fallen häufig Stauden an\, die im Garten keinen Platz mehr finden. Auch bei der Ansaat bleiben oft Samenreste übrig. Bei dem traditionellen Tauschmarkt kann fleißig getauscht werden. \nKommen Sie auch gerne vorbei\, wenn Sie nichts anbieten können\, erfahrungsgemäß suchen einige Pflanzen immer gerne auch ohne Gegenangebot ein neues Zuhause.
URL:http://waldgarten-petershausen.de/event/tauschmarkt/
LOCATION:Waldgarten\, Waldgarten Petershausen\, Petershausen\, 85238\, Germany
CATEGORIES:Veranstaltungen
END:VEVENT
BEGIN:VEVENT
DTSTART;TZID=Europe/Berlin:20250419T140000
DTEND;TZID=Europe/Berlin:20250419T160000
DTSTAMP:20260423T005910
CREATED:20250126T123036Z
LAST-MODIFIED:20250126T123036Z
UID:357-1745071200-1745078400@waldgarten-petershausen.de
SUMMARY:Kleines Osterfest im Waldgarten
DESCRIPTION:Gemeinsam Osternester suchen macht noch mehr Spaß! Zusammen mit der Siedlergemeinschaft Petershausen ermöglichen wir das am Nachmittag des Karsamstags. Dazu gehört das bewährte „Kaffeekränzchen“. Eltern und Großeltern können Osterbuschen binden und mit nach Hause nehmen. \nKeine Anmeldung erforderlich\, um eine Spende wird bei Teilnahme gebeten.
URL:http://waldgarten-petershausen.de/event/kleines-osterfest-im-waldgarten/
LOCATION:Waldgarten\, Waldgarten Petershausen\, Petershausen\, 85238\, Germany
CATEGORIES:Fest,Veranstaltungen
END:VEVENT
BEGIN:VEVENT
DTSTART;TZID=Europe/Berlin:20250405T150000
DTEND;TZID=Europe/Berlin:20250405T163000
DTSTAMP:20260423T005910
CREATED:20250126T122835Z
LAST-MODIFIED:20250126T122835Z
UID:355-1743865200-1743870600@waldgarten-petershausen.de
SUMMARY:Petershausener Runden: Frühlingsblüher und Keltengräber
DESCRIPTION:Wir laden zu einem gemeinsamen Spaziergang ein\, um die Petershausener Landschaft zu erkunden und kennenzulernen. Heute geht es zu keltischen Hügelgräbern\, Walnussalleen und Frühlingsblühern. Nebenher diskutieren wir die Siedlungsentwicklung und lernen was Ausgleichsflächen sind. \nWir treffen uns vor der Baywa\, Industriestraße 19\, Petershausen. Die Teilnahme ist kostenfrei\, eine Anmeldung ist nicht nötig.
URL:http://waldgarten-petershausen.de/event/petershausener-runden-fruehlingsblueher-und-keltengraeber/
CATEGORIES:Veranstaltungen
END:VEVENT
BEGIN:VEVENT
DTSTART;TZID=Europe/Berlin:20250308T140000
DTEND;TZID=Europe/Berlin:20250308T163000
DTSTAMP:20260423T005910
CREATED:20250126T122504Z
LAST-MODIFIED:20250126T122539Z
UID:353-1741442400-1741451400@waldgarten-petershausen.de
SUMMARY:Obstbäume verstehen und pflegen
DESCRIPTION:Warum schneiden wir Obstbäume? Nach welchen Regeln wächst der Baum? Warum und wie wird geschnitten? \nDiese und andere Fragen werden wir im Kurs klären und im Anschluss das Gelernte an den Bäumen umsetzen. \nUm Anmeldung wird gebeten unter info@waldgarten-petershausen.de
URL:http://waldgarten-petershausen.de/event/obstbaeume-verstehen-und-pflegen/
LOCATION:Waldgarten\, Waldgarten Petershausen\, Petershausen\, 85238\, Germany
CATEGORIES:Kurs / Workshop,Veranstaltungen
END:VEVENT
BEGIN:VEVENT
DTSTART;TZID=Europe/Berlin:20250301T130000
DTEND;TZID=Europe/Berlin:20250301T153000
DTSTAMP:20260423T005910
CREATED:20250126T121759Z
LAST-MODIFIED:20250126T122550Z
UID:328-1740834000-1740843000@waldgarten-petershausen.de
SUMMARY:Wir bauen Vogelnistkästen
DESCRIPTION: Zum 50Jahr-Jubliäum der Bund Naturschutz Kreisgruppe Dachau bauen wir 50 verschiedene Nistkasten-Typen (Halbhöhlenkasten\, Höhlenbrüterkasten\, Waldkauznistkasten…). Material wird gestellt\, Hammer oder Akkuschrauber kann gerne mitgebracht werden. Die Kästen können anschließend zum Materialpreis von 5€ erworben werden. \nEine Anmeldung ist erforderlich unter info@bn-petershausen.de
URL:http://waldgarten-petershausen.de/event/wir-bauen-vogelnistkaesten/
LOCATION:Waldgarten\, Waldgarten Petershausen\, Petershausen\, 85238\, Germany
CATEGORIES:Kurs / Workshop,Veranstaltungen
END:VEVENT
BEGIN:VEVENT
DTSTART;TZID=Europe/Berlin:20241221T170000
DTEND;TZID=Europe/Berlin:20241221T210000
DTSTAMP:20260423T005910
CREATED:20241113T145203Z
LAST-MODIFIED:20241220T061608Z
UID:71-1734800400-1734814800@waldgarten-petershausen.de
SUMMARY:Winterlagerfeuer entfällt
DESCRIPTION:Leider muß das Winterlagerfeuer aus organisatorischen Gründen entfallen.
URL:http://waldgarten-petershausen.de/event/winterlagerfeuer/
LOCATION:Waldgarten\, Waldgarten Petershausen\, Petershausen\, 85238\, Germany
CATEGORIES:Fest,Veranstaltungen
END:VEVENT
BEGIN:VEVENT
DTSTART;TZID=Europe/Berlin:20241130T140000
DTEND;TZID=Europe/Berlin:20241130T160000
DTSTAMP:20260423T005910
CREATED:20241113T145054Z
LAST-MODIFIED:20241113T160606Z
UID:68-1732975200-1732982400@waldgarten-petershausen.de
SUMMARY:Adventskranzbinden
DESCRIPTION:Adventskränze aus Naturmaterialien selbst binden\, an der Feuerschale mit Apfelpunsch sitzen\, begleitet von erfahrenen Kranzbinderinnen. \nFür Material und Verpflegung ist gesorgt. \nWir bitten um Anmeldung unter info@gartenbauverein-petershausen.de \nUnkostenbeitrag: 12€ / 10€ für Mitglieder
URL:http://waldgarten-petershausen.de/event/adventskranzbinden/
LOCATION:Waldgarten\, Waldgarten Petershausen\, Petershausen\, 85238\, Germany
CATEGORIES:Kurs / Workshop,Veranstaltungen
END:VEVENT
END:VCALENDAR