BEGIN:VCALENDAR
VERSION:2.0
PRODID:-//Wir lieben Natur und Gärten. - ECPv6.15.20//NONSGML v1.0//EN
CALSCALE:GREGORIAN
METHOD:PUBLISH
X-ORIGINAL-URL:http://waldgarten-petershausen.de
X-WR-CALDESC:Veranstaltungen für Wir lieben Natur und Gärten.
REFRESH-INTERVAL;VALUE=DURATION:PT1H
X-Robots-Tag:noindex
X-PUBLISHED-TTL:PT1H
BEGIN:VTIMEZONE
TZID:Europe/Berlin
BEGIN:DAYLIGHT
TZOFFSETFROM:+0100
TZOFFSETTO:+0200
TZNAME:CEST
DTSTART:20250330T010000
END:DAYLIGHT
BEGIN:STANDARD
TZOFFSETFROM:+0200
TZOFFSETTO:+0100
TZNAME:CET
DTSTART:20251026T010000
END:STANDARD
BEGIN:DAYLIGHT
TZOFFSETFROM:+0100
TZOFFSETTO:+0200
TZNAME:CEST
DTSTART:20260329T010000
END:DAYLIGHT
BEGIN:STANDARD
TZOFFSETFROM:+0200
TZOFFSETTO:+0100
TZNAME:CET
DTSTART:20261025T010000
END:STANDARD
BEGIN:DAYLIGHT
TZOFFSETFROM:+0100
TZOFFSETTO:+0200
TZNAME:CEST
DTSTART:20270328T010000
END:DAYLIGHT
BEGIN:STANDARD
TZOFFSETFROM:+0200
TZOFFSETTO:+0100
TZNAME:CET
DTSTART:20271031T010000
END:STANDARD
END:VTIMEZONE
BEGIN:VEVENT
DTSTART;TZID=Europe/Berlin:20260621T103000
DTEND;TZID=Europe/Berlin:20260621T143000
DTSTAMP:20260423T070509
CREATED:20260205T070943Z
LAST-MODIFIED:20260205T072042Z
UID:471-1782037800-1782052200@waldgarten-petershausen.de
SUMMARY:Schnitzführerschein für Fortgeschrittene
DESCRIPTION:Dieser Kurs richtet sich an alle\, die bereits den Schnitzführerschein erworben haben und ihre Fähigkeiten im Schnitzen vertiefen und erweitern möchten. Im Mittelpunkt steht das achtsame Arbeiten mit Holz und das Weiterentwickeln handwerklicher Fertigkeiten in der Natur.\nWir starten direkt mit der Umsetzung von zwei Werkstücken\, die während des Kurses Schritt für Schritt ausgearbeitet werden. Die Teilnehmenden arbeiten dabei selbstständig\, werden individuell begleitet und erhalten Raum\, eigene Gestaltungsideen umzusetzen.\nVoraussetzung dafür sind sichere Grundkenntnisse im Umgang mit Schnitzwerkzeug. Am Ende nehmen alle Teilnehmenden ihr fertiges Werkstück mit nach Hause. \nDer Kurs wird von der Wildnispädagogin Anja Schmied geleitet. \nDie Veranstaltung ist für Kinder ab 6 Jahren in Begleitung einer erwachsenen Person gedacht. \nEine Anmeldung ist unbedingt erforderlich\, die Teilnehmerzahl ist auf 15 begrenzt\, der Unkostenbeitrag liegt bei 20€.
URL:http://waldgarten-petershausen.de/event/schnitzfuehrerschein-fuer-fortgeschrittene/
LOCATION:Waldgarten\, Waldgarten Petershausen\, Petershausen\, 85238\, Germany
CATEGORIES:Kurs / Workshop,Veranstaltungen
ATTACH;FMTTYPE=image/jpeg:http://waldgarten-petershausen.de/wp-content/uploads/2026/02/schnitzen_anjas-scaled.jpg
END:VEVENT
END:VCALENDAR