BEGIN:VCALENDAR
VERSION:2.0
PRODID:-//Wir lieben Natur und Gärten. - ECPv6.15.20//NONSGML v1.0//EN
CALSCALE:GREGORIAN
METHOD:PUBLISH
X-ORIGINAL-URL:http://waldgarten-petershausen.de
X-WR-CALDESC:Veranstaltungen für Wir lieben Natur und Gärten.
REFRESH-INTERVAL;VALUE=DURATION:PT1H
X-Robots-Tag:noindex
X-PUBLISHED-TTL:PT1H
BEGIN:VTIMEZONE
TZID:Europe/Berlin
BEGIN:DAYLIGHT
TZOFFSETFROM:+0100
TZOFFSETTO:+0200
TZNAME:CEST
DTSTART:20250330T010000
END:DAYLIGHT
BEGIN:STANDARD
TZOFFSETFROM:+0200
TZOFFSETTO:+0100
TZNAME:CET
DTSTART:20251026T010000
END:STANDARD
BEGIN:DAYLIGHT
TZOFFSETFROM:+0100
TZOFFSETTO:+0200
TZNAME:CEST
DTSTART:20260329T010000
END:DAYLIGHT
BEGIN:STANDARD
TZOFFSETFROM:+0200
TZOFFSETTO:+0100
TZNAME:CET
DTSTART:20261025T010000
END:STANDARD
BEGIN:DAYLIGHT
TZOFFSETFROM:+0100
TZOFFSETTO:+0200
TZNAME:CEST
DTSTART:20270328T010000
END:DAYLIGHT
BEGIN:STANDARD
TZOFFSETFROM:+0200
TZOFFSETTO:+0100
TZNAME:CET
DTSTART:20271031T010000
END:STANDARD
END:VTIMEZONE
BEGIN:VEVENT
DTSTART;TZID=Europe/Berlin:20260620T103000
DTEND;TZID=Europe/Berlin:20260620T143000
DTSTAMP:20260423T070553
CREATED:20260205T070828Z
LAST-MODIFIED:20260205T072115Z
UID:468-1781951400-1781965800@waldgarten-petershausen.de
SUMMARY:Schnitzführerschein für Anfänger
DESCRIPTION:Du hast schon mal Erfahrung mit dem Schnitzen gesammelt oder möchtest dein Können verfeinern? Dann bist du hier genau richtig: in diesem Workshop lernst du den sicheren Umgang mit dem Messer\, Schnitzregeln und Schnitztechniken. \nAm Ende des Nachmittags erhält jede/r Teil-nehmer/in selbstverständlich einen Schnitz-Führerschein überreicht. \nMaterial steht ausreichend zur Verfügung. Schnitzmesser mit feststehender Klinge und Schnitzhandschuh falls vorhanden bitte mitbringen. \nDer Kurs wird von der Wildnispädagogin Anja Schmied geleitet. \nDie Veranstaltung ist für Kinder ab 6 Jahren in Begleitung einer erwachsenen Person gedacht. \nEine Anmeldung ist unbedingt erforderlich\, die Teilnehmerzahl ist auf 15 begrenzt\, der Unkostenbeitrag liegt bei 20€.
URL:http://waldgarten-petershausen.de/event/schnitzfuehrerschein-fuer-anfaenger/
LOCATION:Waldgarten\, Waldgarten Petershausen\, Petershausen\, 85238\, Germany
CATEGORIES:Kurs / Workshop,Veranstaltungen
ATTACH;FMTTYPE=image/jpeg:http://waldgarten-petershausen.de/wp-content/uploads/2026/02/schnitzen_anjas-scaled.jpg
END:VEVENT
BEGIN:VEVENT
DTSTART;TZID=Europe/Berlin:20260620T150000
DTEND;TZID=Europe/Berlin:20260620T163000
DTSTAMP:20260423T070553
CREATED:20260205T070233Z
LAST-MODIFIED:20260205T070455Z
UID:463-1781967600-1781973000@waldgarten-petershausen.de
SUMMARY:Petershausener Runden: Waldlehrpfad und Blumenwiesen
DESCRIPTION:Während dieser Runde kommen wir an der schönsten Petershausener Blühwiese vorbei und erfahren von unserem grünen Engel Rainer Mühe\, welcher Pflegeaufwand dahintersteckt. Auf dem Rückweg besuchen wir den Petershausener Waldlehrpfad.\nDie Runde dauert ca. 1\,5 Stunden. Bei Schlechtwetter entfällt sie. \nDie Teilnahme ist kostenfrei\, es ist keine Anmeldung erforderlich. \nDies ist eine Veranstaltung der Bund Naturschutz Ortsgruppe Petershausen. Bei Rückfragen melden Sie sich bitte beim Veranstalter.
URL:http://waldgarten-petershausen.de/event/petershausener-runden-waldlehrpfad-und-blumenwiesen/
LOCATION:Waldlehrpfad\, Wendelsteinweg 2-6\, Petershausen\, 85238\, Germany
CATEGORIES:Exkursion,Veranstaltungen
ATTACH;FMTTYPE=image/jpeg:http://waldgarten-petershausen.de/wp-content/uploads/2026/02/05_biotopwanderung.jpg
ORGANIZER;CN="Bund Naturschutz Ortsgruppe Petershausen":MAILTO:bn.petershausen@gmx.de
END:VEVENT
END:VCALENDAR