BEGIN:VCALENDAR
VERSION:2.0
PRODID:-//Wir lieben Natur und Gärten. - ECPv6.15.20//NONSGML v1.0//EN
CALSCALE:GREGORIAN
METHOD:PUBLISH
X-WR-CALNAME:Wir lieben Natur und Gärten.
X-ORIGINAL-URL:http://waldgarten-petershausen.de
X-WR-CALDESC:Veranstaltungen für Wir lieben Natur und Gärten.
REFRESH-INTERVAL;VALUE=DURATION:PT1H
X-Robots-Tag:noindex
X-PUBLISHED-TTL:PT1H
BEGIN:VTIMEZONE
TZID:Europe/Berlin
BEGIN:DAYLIGHT
TZOFFSETFROM:+0100
TZOFFSETTO:+0200
TZNAME:CEST
DTSTART:20250330T010000
END:DAYLIGHT
BEGIN:STANDARD
TZOFFSETFROM:+0200
TZOFFSETTO:+0100
TZNAME:CET
DTSTART:20251026T010000
END:STANDARD
BEGIN:DAYLIGHT
TZOFFSETFROM:+0100
TZOFFSETTO:+0200
TZNAME:CEST
DTSTART:20260329T010000
END:DAYLIGHT
BEGIN:STANDARD
TZOFFSETFROM:+0200
TZOFFSETTO:+0100
TZNAME:CET
DTSTART:20261025T010000
END:STANDARD
BEGIN:DAYLIGHT
TZOFFSETFROM:+0100
TZOFFSETTO:+0200
TZNAME:CEST
DTSTART:20270328T010000
END:DAYLIGHT
BEGIN:STANDARD
TZOFFSETFROM:+0200
TZOFFSETTO:+0100
TZNAME:CET
DTSTART:20271031T010000
END:STANDARD
END:VTIMEZONE
BEGIN:VEVENT
DTSTART;TZID=Europe/Berlin:20260307T130000
DTEND;TZID=Europe/Berlin:20260307T160000
DTSTAMP:20260423T042644
CREATED:20260131T111456Z
LAST-MODIFIED:20260305T084654Z
UID:427-1772888400-1772899200@waldgarten-petershausen.de
SUMMARY:Obstbäume verstehen und pflegen
DESCRIPTION:Warum schneiden wir Obstbäume? Nach welchen Regeln wächst der Baum? Warum und wie wird geschnitten?\nDiese und andere F \nragen werden wir im Kurs klären und im Anschluss das Gelernte an den Bäumen umsetzen. \nBitte wetterfeste Kleidung\, Schnittwerkzeug wenn vorhanden und Schreibzeug mitbringen. \nReferentin: Christine Dombrowsi\, zertifizierte Baumwartin \nBeitrag: Freiwillige Spende \nAnmeldung erforderlich
URL:http://waldgarten-petershausen.de/event/obstbaeume-verstehen-und-pflegen-2/
LOCATION:Waldgarten\, Waldgarten Petershausen\, Petershausen\, 85238\, Germany
CATEGORIES:Kurs / Workshop,Veranstaltungen
ATTACH;FMTTYPE=image/png:http://waldgarten-petershausen.de/wp-content/uploads/2025/01/apple-tree-3735679_640.png
END:VEVENT
END:VCALENDAR