BEGIN:VCALENDAR
VERSION:2.0
PRODID:-//Wir lieben Natur und Gärten. - ECPv6.15.20//NONSGML v1.0//EN
CALSCALE:GREGORIAN
METHOD:PUBLISH
X-WR-CALNAME:Wir lieben Natur und Gärten.
X-ORIGINAL-URL:http://waldgarten-petershausen.de
X-WR-CALDESC:Veranstaltungen für Wir lieben Natur und Gärten.
REFRESH-INTERVAL;VALUE=DURATION:PT1H
X-Robots-Tag:noindex
X-PUBLISHED-TTL:PT1H
BEGIN:VTIMEZONE
TZID:Europe/Berlin
BEGIN:DAYLIGHT
TZOFFSETFROM:+0100
TZOFFSETTO:+0200
TZNAME:CEST
DTSTART:20240331T010000
END:DAYLIGHT
BEGIN:STANDARD
TZOFFSETFROM:+0200
TZOFFSETTO:+0100
TZNAME:CET
DTSTART:20241027T010000
END:STANDARD
BEGIN:DAYLIGHT
TZOFFSETFROM:+0100
TZOFFSETTO:+0200
TZNAME:CEST
DTSTART:20250330T010000
END:DAYLIGHT
BEGIN:STANDARD
TZOFFSETFROM:+0200
TZOFFSETTO:+0100
TZNAME:CET
DTSTART:20251026T010000
END:STANDARD
BEGIN:DAYLIGHT
TZOFFSETFROM:+0100
TZOFFSETTO:+0200
TZNAME:CEST
DTSTART:20260329T010000
END:DAYLIGHT
BEGIN:STANDARD
TZOFFSETFROM:+0200
TZOFFSETTO:+0100
TZNAME:CET
DTSTART:20261025T010000
END:STANDARD
END:VTIMEZONE
BEGIN:VEVENT
DTSTART;TZID=Europe/Berlin:20251129T130000
DTEND;TZID=Europe/Berlin:20251129T150000
DTSTAMP:20260423T123820
CREATED:20250418T061506Z
LAST-MODIFIED:20250418T061506Z
UID:411-1764421200-1764428400@waldgarten-petershausen.de
SUMMARY:Adventskranzbinden
DESCRIPTION:Adventskränze aus Naturmaterialien selbst binden\, an der Feuerschale mit Apfelpunsch sitzen\, begleitet von erfahrenen Kranzbinderinnen. Für Material und Verpflegung ist gesorgt. \nLeitung: Antje Grantas\,  Irene Marquart-Schüpferling \nGebühr: 15 € (Mitglieder 12€)\nAnmeldung: info@waldgarten-petershausen.de \nVeranstaltungsort: Waldgarten (Pflanzgarten)
URL:http://waldgarten-petershausen.de/event/adventskranzbinden-2/
LOCATION:Waldgarten\, Waldgarten Petershausen\, Petershausen\, 85238\, Germany
CATEGORIES:Kurs / Workshop,Veranstaltungen
END:VEVENT
END:VCALENDAR