BEGIN:VCALENDAR
VERSION:2.0
PRODID:-//Wir lieben Natur und Gärten. - ECPv6.15.20//NONSGML v1.0//EN
CALSCALE:GREGORIAN
METHOD:PUBLISH
X-WR-CALNAME:Wir lieben Natur und Gärten.
X-ORIGINAL-URL:http://waldgarten-petershausen.de
X-WR-CALDESC:Veranstaltungen für Wir lieben Natur und Gärten.
REFRESH-INTERVAL;VALUE=DURATION:PT1H
X-Robots-Tag:noindex
X-PUBLISHED-TTL:PT1H
BEGIN:VTIMEZONE
TZID:Europe/Berlin
BEGIN:DAYLIGHT
TZOFFSETFROM:+0100
TZOFFSETTO:+0200
TZNAME:CEST
DTSTART:20240331T010000
END:DAYLIGHT
BEGIN:STANDARD
TZOFFSETFROM:+0200
TZOFFSETTO:+0100
TZNAME:CET
DTSTART:20241027T010000
END:STANDARD
BEGIN:DAYLIGHT
TZOFFSETFROM:+0100
TZOFFSETTO:+0200
TZNAME:CEST
DTSTART:20250330T010000
END:DAYLIGHT
BEGIN:STANDARD
TZOFFSETFROM:+0200
TZOFFSETTO:+0100
TZNAME:CET
DTSTART:20251026T010000
END:STANDARD
BEGIN:DAYLIGHT
TZOFFSETFROM:+0100
TZOFFSETTO:+0200
TZNAME:CEST
DTSTART:20260329T010000
END:DAYLIGHT
BEGIN:STANDARD
TZOFFSETFROM:+0200
TZOFFSETTO:+0100
TZNAME:CET
DTSTART:20261025T010000
END:STANDARD
END:VTIMEZONE
BEGIN:VEVENT
DTSTART;TZID=Europe/Berlin:20250426T100000
DTEND;TZID=Europe/Berlin:20250426T120000
DTSTAMP:20260424T025935
CREATED:20250126T123132Z
LAST-MODIFIED:20250418T055609Z
UID:359-1745661600-1745668800@waldgarten-petershausen.de
SUMMARY:Tauschmarkt
DESCRIPTION:Bei der Frühjahrsdurchsicht fallen häufig Stauden an\, die im Garten keinen Platz mehr finden. Auch bei der Ansaat bleiben oft Samenreste übrig. Bei dem traditionellen Tauschmarkt kann fleißig getauscht werden. \nKommen Sie auch gerne vorbei\, wenn Sie nichts anbieten können\, erfahrungsgemäß suchen einige Pflanzen immer gerne auch ohne Gegenangebot ein neues Zuhause.
URL:http://waldgarten-petershausen.de/event/tauschmarkt/
LOCATION:Waldgarten\, Waldgarten Petershausen\, Petershausen\, 85238\, Germany
CATEGORIES:Veranstaltungen
END:VEVENT
END:VCALENDAR